BEGIN:VCALENDAR
VERSION:2.0
PRODID:http://www.marmara.at/
METHOD:PUBLISH
BEGIN:VEVENT
LOCATION:Hackls Marille 2191 Dorfstraße 20
UID:9589
CLASS:PUBLIC
SUMMARY:Marillenbrunch
DTSTART:20260726T080000
DTEND:20260809T160000
DTSTAMP:20260420T103444Z
DESCRIPTION:Hackl&#39;s Marille lädt am 26. Juli und 9. August zum Marillen Brunch ein. Es erwartet Sie ein reichhaltiges Buffet mit kalten und warmen Speisen rund um den Marillenhof & Happy Turkeys.

Kosten Erwachsener 33€ plus 6€ Getränkepauschale / Kinder (unter 14 Jahren) 17€ plus 3€ Getränkepauschale

Anmeldung unter: 02574/28628

ANMELDUNG erforderlich!



END:VEVENT
END:VCALENDAR
