BEGIN:VCALENDAR
VERSION:2.0
PRODID:http://www.marmara.at/
METHOD:PUBLISH
BEGIN:VEVENT
LOCATION:in ganz Gumpoldskirchen 2352 K. Schellmanngasse 30
UID:9588
CLASS:PUBLIC
SUMMARY:Bauernmarkt
DTSTART:20260426T110000
DTEND:20260426T200000
DTSTAMP:20260420T041951Z
DESCRIPTION:18 Höfe und Betriebe sorgen beim Bauernmarkt in Gumpoldskirchen für Bewegung und Geselligkeit – bei herrlichem Wetter können die Besucherinnen und Besucher von einem Betrieb zum anderen flanieren, um feine Produkte zu verkosten, und z.B. Setzlinge, Wein und viele köstliche Schmankerln mit nach Hause zu nehmen.

END:VEVENT
END:VCALENDAR
