BEGIN:VCALENDAR
VERSION:2.0
PRODID:http://www.marmara.at/
METHOD:PUBLISH
BEGIN:VEVENT
LOCATION:Gärtnerei Hackl 3804 Spitalstraße 22
UID:9581
CLASS:PUBLIC
SUMMARY:Waldviertler Genussmarkt 
DTSTART:20260613T083000
DTEND:20260613T130000
DTSTAMP:20260422T105647Z
DESCRIPTION:Erstmalig findet der Waldviertler Genussmarkt in Allentsteig am 13. Juni 2026 bei der Gärtnerei Hackl statt. 

Nähere Infos folgen in Kürze!

END:VEVENT
END:VCALENDAR
