BEGIN:VCALENDAR
VERSION:2.0
PRODID:http://www.marmara.at/
METHOD:PUBLISH
BEGIN:VEVENT
LOCATION:Palais Niederösterreich 1010 Herrengasse 13
UID:9570
CLASS:PUBLIC
SUMMARY:18. „So schmeckt Niederösterreich“-Adventmarkt
DTSTART:20261127T100000
DTEND:20261128T210000
DTSTAMP:20260420T103013Z
DESCRIPTION:Der stimmungsvolle „So schmeckt Niederösterreich“-Adventmarkt findet wieder am 1. Adventwochenende von Freitag bis Samstag, im Palais NÖ im 1. Wiener Gemeindebezirk statt. Unsere Ausstellerinnen und Aussteller aus Kulinarik und Kunsthandwerk stimmen gemeinsam mit weihnachtlichen Klängen auf den Advent ein. Auf die Gäste wartet ein Mix aus regionalen Spezialitäten, köstlichen Schmankerln, traditionellem Handwerk und einer Vielzahl an Chören, Bläsern und Musikgruppen.

END:VEVENT
END:VCALENDAR
