BEGIN:VCALENDAR
VERSION:2.0
PRODID:http://www.marmara.at/
METHOD:PUBLISH
BEGIN:VEVENT
LOCATION:Stadtpark Krems 3500 Wichnerstraße 
UID:9408
CLASS:PUBLIC
SUMMARY:Großer Bienenmarkt in Krems
DTSTART:20260425T090000
DTEND:20260425T180000
DTSTAMP:20260422T141616Z
DESCRIPTION:Der große Kremser Bienenmarkt im einzigartigen Stadtpark verspricht ein neues Highlight am österreichischen Bienenhimmel zu werden. Zahlreiche Verkaufsstände rund um Honig, Imkereiprodukte und regionale Spezialitäten treffen auf ein abwechslungsreiches, hochwertiges Rahmenprogramm.

Herzstück des Marktes ist die „Honig-Bühne“, auf der Aussteller ihre Produkte präsentieren und im Interview einem breiten Publikum vorstellen können. Gewinnspiele und Mitmachaktionen sorgen für zusätzliche Unterhaltung.

Gleichzeitig steht der Informations- und Erlebniswert im Mittelpunkt: Besucherinnen und Besucher erleben Honig und Imkerei spannend, verständlich und lebendig.

END:VEVENT
END:VCALENDAR
