BEGIN:VCALENDAR
VERSION:2.0
PRODID:http://www.marmara.at/
METHOD:PUBLISH
BEGIN:VEVENT
LOCATION:Rathausplatz 3390 Rathausplat 
UID:8932
CLASS:PUBLIC
SUMMARY:"So schmeckt Niederösterreich" ist unterwegs am Wochenmarkt
DTSTART:20250903T080000
DTEND:20250903T130000
DTSTAMP:20260419T173605Z
DESCRIPTION:„So schmeckt Niederösterreich ist unterwegs“ – unter diesem Motto macht unsere beliebte Kulinarik-Initiative auch 2025 wieder Halt auf fünf Bauernmärkten in Niederösterreich.

Ziel ist es, die Bedeutung regionaler und saisonaler Lebensmittel sichtbar zu machen, die Märkte als wichtige Nahversorger zu stärken und den direkten Kontakt zwischen Produzentinnen und Produzenten und Konsumentinne und Konsumenten zu fördern.

Von der Pyramide in die Erdäpfelsuppe

Dieses Jahr steht „So schmeckt Niederösterreich“ ganz im Zeichen der Erdäpfel. Nach dem erfolgreichen Projekt Erdäpfelpyramide im Frühling ist die beliebte Knolle auch bei unserer Bauernmarkttour der kulinarische Hauptdarsteller. Vor Ort bereiten die Seminarbäuerinnen unsere Erdäpfelsuppe für Sie zu – Frisch gekocht und mit regionalen Zutaten.

END:VEVENT
END:VCALENDAR
