BEGIN:VCALENDAR
VERSION:2.0
PRODID:http://www.marmara.at/
METHOD:PUBLISH
BEGIN:VEVENT
LOCATION:Palais Niederösterreich  1010 Herrengasse 13
UID:3508
CLASS:PUBLIC
SUMMARY:„So schmeckt NÖ“-Adventmarkt
DTSTART:20181130T080000
DTEND:20181201T080000
DTSTAMP:20260424T231105Z
DESCRIPTION:
Der stimmungsvolle „So schmeckt NÖ“-Adventmarkt findet wieder am 1. Adventwochenende im Palais NÖ im 1. Wiener Gemeindebezirk statt. Über 60 Ausstellerinnen und Aussteller aus Kulinarik und Kunsthandwerk stimmen gemeinsam mit weihnachtlichen Klängen auf den Advent ein. Auf die Gäste wartet ein Mix aus regionalen Spezialitäten, köstlichen Schmankerln, traditionellem Handwerk und einer Vielzahl an Chören, Bläsern und Musikgruppen. Die jüngsten Gäste können in der Backstube der Bäuerinnen Kürbis- und Mohnkipferl wuzeln und Lebkuchen ausstechen.

END:VEVENT
END:VCALENDAR
